BEGIN:VCALENDAR
VERSION:2.0
PRODID:-//NK  Academy - ECPv6.15.13//NONSGML v1.0//EN
CALSCALE:GREGORIAN
METHOD:PUBLISH
X-ORIGINAL-URL:https://nkacademy.co.uk
X-WR-CALDESC:Events for NK  Academy
REFRESH-INTERVAL;VALUE=DURATION:PT1H
X-Robots-Tag:noindex
X-PUBLISHED-TTL:PT1H
BEGIN:VTIMEZONE
TZID:Europe/London
BEGIN:DAYLIGHT
TZOFFSETFROM:+0000
TZOFFSETTO:+0100
TZNAME:BST
DTSTART:20250330T010000
END:DAYLIGHT
BEGIN:STANDARD
TZOFFSETFROM:+0100
TZOFFSETTO:+0000
TZNAME:GMT
DTSTART:20251026T010000
END:STANDARD
BEGIN:DAYLIGHT
TZOFFSETFROM:+0000
TZOFFSETTO:+0100
TZNAME:BST
DTSTART:20260329T010000
END:DAYLIGHT
BEGIN:STANDARD
TZOFFSETFROM:+0100
TZOFFSETTO:+0000
TZNAME:GMT
DTSTART:20261025T010000
END:STANDARD
BEGIN:DAYLIGHT
TZOFFSETFROM:+0000
TZOFFSETTO:+0100
TZNAME:BST
DTSTART:20270328T010000
END:DAYLIGHT
BEGIN:STANDARD
TZOFFSETFROM:+0100
TZOFFSETTO:+0000
TZNAME:GMT
DTSTART:20271031T010000
END:STANDARD
END:VTIMEZONE
BEGIN:VEVENT
DTSTART;VALUE=DATE:20260106
DTEND;VALUE=DATE:20260107
DTSTAMP:20260425T151347
CREATED:20251127T143803Z
LAST-MODIFIED:20251127T143803Z
UID:77838-1767657600-1767743999@nkacademy.co.uk
SUMMARY:First Day of Term 3
DESCRIPTION:
URL:https://nkacademy.co.uk/event/first-day-of-term-3-2/
END:VEVENT
BEGIN:VEVENT
DTSTART;VALUE=DATE:20260114
DTEND;VALUE=DATE:20260115
DTSTAMP:20260425T151347
CREATED:20251127T143909Z
LAST-MODIFIED:20251127T143909Z
UID:77840-1768348800-1768435199@nkacademy.co.uk
SUMMARY:Learning For Life Day
DESCRIPTION:
URL:https://nkacademy.co.uk/event/learning-for-life-day-3/
END:VEVENT
BEGIN:VEVENT
DTSTART;TZID=Europe/London:20260115T163000
DTEND;TZID=Europe/London:20260115T190000
DTSTAMP:20260425T151347
CREATED:20251127T143951Z
LAST-MODIFIED:20251127T143951Z
UID:77842-1768494600-1768503600@nkacademy.co.uk
SUMMARY:Year 11 Student Progress Meetings 4.30pm - 7pm
DESCRIPTION:
URL:https://nkacademy.co.uk/event/year-11-student-progress-meetings-4-30pm-7pm/
END:VEVENT
BEGIN:VEVENT
DTSTART;TZID=Europe/London:20260129T170000
DTEND;TZID=Europe/London:20260129T180000
DTSTAMP:20260425T151347
CREATED:20251127T144031Z
LAST-MODIFIED:20251127T144031Z
UID:77844-1769706000-1769709600@nkacademy.co.uk
SUMMARY:Year 13 Student Progress Meetings 5pm - 6pm
DESCRIPTION:
URL:https://nkacademy.co.uk/event/year-13-student-progress-meetings-5pm-6pm/
END:VEVENT
END:VCALENDAR